BEGIN:VCALENDAR
VERSION:2.0
PRODID:icalendar-ruby
CALSCALE:GREGORIAN
METHOD:PUBLISH
BEGIN:VEVENT
DTSTAMP:20260425T102447Z
UID:5-456852@thewelcome.tithelysetup5.com
DTSTART:20260419T150000Z
DTEND:20260419T163000Z
CLASS:PUBLIC
CREATED:20260424T212116
DESCRIPTION:
LAST-MODIFIED:20260424T212116
LOCATION:5636 Wood Oak Drive
SUMMARY:Sunday Worship Service
URL;VALUE=URI:https://welcomecenterchurch.org/events/sunday-worship-service
 /2026-04-19
END:VEVENT
END:VCALENDAR
